BEGIN:VCALENDAR
VERSION:2.0
PRODID:-//Business Referrers - ECPv6.15.20//NONSGML v1.0//EN
CALSCALE:GREGORIAN
METHOD:PUBLISH
X-ORIGINAL-URL:https://businessreferrers.com.au
X-WR-CALDESC:Events for Business Referrers
REFRESH-INTERVAL;VALUE=DURATION:PT1H
X-Robots-Tag:noindex
X-PUBLISHED-TTL:PT1H
BEGIN:VTIMEZONE
TZID:Australia/Melbourne
BEGIN:STANDARD
TZOFFSETFROM:+1100
TZOFFSETTO:+1000
TZNAME:AEST
DTSTART:20230401T160000
END:STANDARD
BEGIN:DAYLIGHT
TZOFFSETFROM:+1000
TZOFFSETTO:+1100
TZNAME:AEDT
DTSTART:20230930T160000
END:DAYLIGHT
BEGIN:STANDARD
TZOFFSETFROM:+1100
TZOFFSETTO:+1000
TZNAME:AEST
DTSTART:20240406T160000
END:STANDARD
BEGIN:DAYLIGHT
TZOFFSETFROM:+1000
TZOFFSETTO:+1100
TZNAME:AEDT
DTSTART:20241005T160000
END:DAYLIGHT
BEGIN:STANDARD
TZOFFSETFROM:+1100
TZOFFSETTO:+1000
TZNAME:AEST
DTSTART:20250405T160000
END:STANDARD
BEGIN:DAYLIGHT
TZOFFSETFROM:+1000
TZOFFSETTO:+1100
TZNAME:AEDT
DTSTART:20251004T160000
END:DAYLIGHT
END:VTIMEZONE
BEGIN:VEVENT
DTSTART;TZID=Australia/Melbourne:20241008T070000
DTEND;TZID=Australia/Melbourne:20241008T083000
DTSTAMP:20260425T093922
CREATED:20241001T102811Z
LAST-MODIFIED:20241001T103952Z
UID:4102-1728370800-1728376200@businessreferrers.com.au
SUMMARY:A Conversation With An Accountant Who Makes A Difference!
DESCRIPTION:Each week there is a Business Referrers meeting which provides a friendly and productive meeting opportunity for local small business owners to share referrals and grow their businesses using the membership as a platform for new ideas\, products and services. We have a guest presenter each week who provides information from their areas of expertise. \n\n\n\n\n\nRunning a business and pondering?? where is our cash\, why are we not growing\, are we profitable\, is our structure right to optimise our growth\, is our tax position optimised\, does our accountant know our business and our aspirations? \nRajesh Chawla from RCB Advisors will discuss what a difference your Advisor/Accountant can make and is also a joy to deal with. \n\n\n\n\n\n\n \n\n\n\nAbout the Presenter\n\n\n\nRajesh Chawla – RCB Advisors\nRajesh is a Chartered Accountant and brings with him over 35 years of Corporate and Public Practice experience. He is a passionate advisor who enjoys building strong and trusted relationship with client based on his personal\, professional\, and ethical values. His business acumen\, technical skills and can-do attitude engages each client to ensure timely and effective solutions are provided and implemented when dealing with their tax\, stages of the business\, startups to consolidation and exit. Centre to his approach is the alignment of personal and business vision of his clients as they create their wealth. \nRajesh enjoys his family time\, playing tennis\, bush walks\, music and watching motor sports – F1 . \n\n\n\nClick Here to RSVP\n\n\n 
URL:https://businessreferrers.com.au/event/a-conversation-with-an-accountant-who-makes-a-difference/
LOCATION:Our HQ\, 268 Canterbury Road\, Surrey Hills\, Victoria\, 3127\, Australia
END:VEVENT
END:VCALENDAR