BEGIN:VCALENDAR
VERSION:2.0
PRODID:-//Business Referrers - ECPv6.15.20//NONSGML v1.0//EN
CALSCALE:GREGORIAN
METHOD:PUBLISH
X-ORIGINAL-URL:https://businessreferrers.com.au
X-WR-CALDESC:Events for Business Referrers
REFRESH-INTERVAL;VALUE=DURATION:PT1H
X-Robots-Tag:noindex
X-PUBLISHED-TTL:PT1H
BEGIN:VTIMEZONE
TZID:Australia/Melbourne
BEGIN:STANDARD
TZOFFSETFROM:+1100
TZOFFSETTO:+1000
TZNAME:AEST
DTSTART:20240406T160000
END:STANDARD
BEGIN:DAYLIGHT
TZOFFSETFROM:+1000
TZOFFSETTO:+1100
TZNAME:AEDT
DTSTART:20241005T160000
END:DAYLIGHT
BEGIN:STANDARD
TZOFFSETFROM:+1100
TZOFFSETTO:+1000
TZNAME:AEST
DTSTART:20250405T160000
END:STANDARD
BEGIN:DAYLIGHT
TZOFFSETFROM:+1000
TZOFFSETTO:+1100
TZNAME:AEDT
DTSTART:20251004T160000
END:DAYLIGHT
BEGIN:STANDARD
TZOFFSETFROM:+1100
TZOFFSETTO:+1000
TZNAME:AEST
DTSTART:20260404T160000
END:STANDARD
BEGIN:DAYLIGHT
TZOFFSETFROM:+1000
TZOFFSETTO:+1100
TZNAME:AEDT
DTSTART:20261003T160000
END:DAYLIGHT
END:VTIMEZONE
BEGIN:VEVENT
DTSTART;TZID=Australia/Melbourne:20250304T071500
DTEND;TZID=Australia/Melbourne:20250304T083000
DTSTAMP:20260425T020014
CREATED:20250227T112743Z
LAST-MODIFIED:20250227T112743Z
UID:4310-1741072500-1741077000@businessreferrers.com.au
SUMMARY:The Silent Power of Body Language
DESCRIPTION:Each week there is a Business Referrers meeting which provides a friendly and productive meeting opportunity for local small business owners to share referrals and grow their businesses using the membership as a platform for new ideas\, products and services. We have a guest presenter each week who provides information from their areas of expertise. \n\n\n\n\n\nDan Marshall will show how body language and non-verbal communication play a critical role in persuasion\, leadership\, and public speaking. We often focus on the words we say\, but in reality\, our body speaks louder than our voice. \n\n\n\n\n\n\n \n\n  \n\n\nAbout the Presenter\n\nDan Marshall \nDan Marshall is a seasoned speaker\, communication coach\, and business mentor with over a decade of experience helping individuals and organizations master the art of persuasive and confident communication. With a background in coaching\, public speaking\, and business development\, Dan specializes in equipping professionals with the skills needed to deliver impactful presentations\, inspire audiences\, and drive meaningful action. \nDan’s signature Fearless Speaker program has empowered aspiring speakers\, executives\, and sales professionals to communicate with clarity\, confidence\, and authority. Whether on stage or in the boardroom\, his training equips individuals with proven strategies to captivate audiences\, structure compelling speeches\, and harness the power of storytelling. \nAs a sought-after keynote speaker and workshop facilitator\, Dan is available for corporate events\, conferences\, and leadership training sessions. His presentations are dynamic\, insightful\, and tailored to inspire action\, leaving audiences with practical tools to transform the way they communicate. \n\n\n\nClick Here to RSVP\n\n\n 
URL:https://businessreferrers.com.au/event/professional-speaker-and-communication-coach-melbourne/
LOCATION:Our HQ\, 268 Canterbury Road\, Surrey Hills\, Victoria\, 3127\, Australia
ATTACH;FMTTYPE=image/jpeg:https://businessreferrers.com.au/wp-content/uploads/2025/02/Dan-Marshall-Resized.jpg
END:VEVENT
END:VCALENDAR