BEGIN:VCALENDAR
VERSION:2.0
PRODID:-//Business Referrers - ECPv6.15.20//NONSGML v1.0//EN
CALSCALE:GREGORIAN
METHOD:PUBLISH
X-ORIGINAL-URL:https://businessreferrers.com.au
X-WR-CALDESC:Events for Business Referrers
REFRESH-INTERVAL;VALUE=DURATION:PT1H
X-Robots-Tag:noindex
X-PUBLISHED-TTL:PT1H
BEGIN:VTIMEZONE
TZID:Australia/Melbourne
BEGIN:STANDARD
TZOFFSETFROM:+1100
TZOFFSETTO:+1000
TZNAME:AEST
DTSTART:20240406T160000
END:STANDARD
BEGIN:DAYLIGHT
TZOFFSETFROM:+1000
TZOFFSETTO:+1100
TZNAME:AEDT
DTSTART:20241005T160000
END:DAYLIGHT
BEGIN:STANDARD
TZOFFSETFROM:+1100
TZOFFSETTO:+1000
TZNAME:AEST
DTSTART:20250405T160000
END:STANDARD
BEGIN:DAYLIGHT
TZOFFSETFROM:+1000
TZOFFSETTO:+1100
TZNAME:AEDT
DTSTART:20251004T160000
END:DAYLIGHT
BEGIN:STANDARD
TZOFFSETFROM:+1100
TZOFFSETTO:+1000
TZNAME:AEST
DTSTART:20260404T160000
END:STANDARD
BEGIN:DAYLIGHT
TZOFFSETFROM:+1000
TZOFFSETTO:+1100
TZNAME:AEDT
DTSTART:20261003T160000
END:DAYLIGHT
END:VTIMEZONE
BEGIN:VEVENT
DTSTART;TZID=Australia/Melbourne:20250325T071500
DTEND;TZID=Australia/Melbourne:20250325T083000
DTSTAMP:20260425T014151
CREATED:20250221T083749Z
LAST-MODIFIED:20250227T111450Z
UID:4299-1742886900-1742891400@businessreferrers.com.au
SUMMARY:Property Market Update for Early 2025
DESCRIPTION:Each week there is a Business Referrers meeting which provides a friendly and productive meeting opportunity for local small business owners to share referrals and grow their businesses using the membership as a platform for new ideas\, products and services. We have a guest presenter each week who provides information from their areas of expertise. \n\n\n\n\n\nExperienced buyer’s agent\, Mike McNamara\, Director of Strategic Buyers Agents Pty Ltd will present on hte state of the Melbourne property market in early 2025\, how buyers can avoid costly mistakes\, and how they can buy successfully.  Mike will answer audience questions and/or meet with them after the presentation. \n\n\n\n\n\n\n \n\n  \n\n\nAbout the Presenter\n\nMike McNamara – Strategic Buyers Agent\nWith 11 years experiene in the property market\, buying hundreds of properties for clients\, Mike has advnaced buying skills and an authoritative grasp of the property marketplace throughout Melbourne and regional areas. Also a property investor for over 20 years\, Mike is teritary qualified in finance and business\, and has achieved an MBA. Previously working as a Chartered Accountant\, and now a licenced real estate agent\, Mike’s agency can provide the experience and knowledge needed to secure a first or next home for buyers. \n\n\n\n  \nClick Here to RSVP\n\n\n 
URL:https://businessreferrers.com.au/event/property-market-update-for-early-2025/
LOCATION:Our HQ\, 268 Canterbury Road\, Surrey Hills\, Victoria\, 3127\, Australia
ATTACH;FMTTYPE=image/jpeg:https://businessreferrers.com.au/wp-content/uploads/2025/02/dud-property.jpg
END:VEVENT
END:VCALENDAR