BEGIN:VCALENDAR
VERSION:2.0
PRODID:-//Business Referrers - ECPv6.15.20//NONSGML v1.0//EN
CALSCALE:GREGORIAN
METHOD:PUBLISH
X-ORIGINAL-URL:https://businessreferrers.com.au
X-WR-CALDESC:Events for Business Referrers
REFRESH-INTERVAL;VALUE=DURATION:PT1H
X-Robots-Tag:noindex
X-PUBLISHED-TTL:PT1H
BEGIN:VTIMEZONE
TZID:Australia/Melbourne
BEGIN:STANDARD
TZOFFSETFROM:+1100
TZOFFSETTO:+1000
TZNAME:AEST
DTSTART:20230401T160000
END:STANDARD
BEGIN:DAYLIGHT
TZOFFSETFROM:+1000
TZOFFSETTO:+1100
TZNAME:AEDT
DTSTART:20230930T160000
END:DAYLIGHT
BEGIN:STANDARD
TZOFFSETFROM:+1100
TZOFFSETTO:+1000
TZNAME:AEST
DTSTART:20240406T160000
END:STANDARD
BEGIN:DAYLIGHT
TZOFFSETFROM:+1000
TZOFFSETTO:+1100
TZNAME:AEDT
DTSTART:20241005T160000
END:DAYLIGHT
BEGIN:STANDARD
TZOFFSETFROM:+1100
TZOFFSETTO:+1000
TZNAME:AEST
DTSTART:20250405T160000
END:STANDARD
BEGIN:DAYLIGHT
TZOFFSETFROM:+1000
TZOFFSETTO:+1100
TZNAME:AEDT
DTSTART:20251004T160000
END:DAYLIGHT
END:VTIMEZONE
BEGIN:VEVENT
DTSTART;TZID=Australia/Melbourne:20240813T070000
DTEND;TZID=Australia/Melbourne:20240813T083000
DTSTAMP:20260425T111222
CREATED:20240806T052428Z
LAST-MODIFIED:20240806T052428Z
UID:4013-1723532400-1723537800@businessreferrers.com.au
SUMMARY:Business Referrers Weekly Networking Event
DESCRIPTION:Each week there is a Business Referrers meeting which provides a friendly and productive meeting opportunity for local small business owners to share referrals and grow their businesses using the membership as a platform for new ideas\, products and services. We have a guest presenter each week who provides information from their areas of expertise. \n\n\n\n\n\nRSVP to this event if you want to connect \n\n\n\n\n\n\n \n\n  \n\n\nAbout Business Referrers\n\nUnleashing the Power of Referral Business: Join Our Local Business Networking Group\n\n\nAs a business owner\, entrepreneur\, or start-up\, you understand the value of networking and building strong relationships with other like-minded individuals and local business networking groups. \nIn our local Business Network\, we believe that referred business is the best business. That’s why we’re committed to creating a community of trusted professionals passionate about supporting one another and growing their businesses together. \nOur membership offers a variety of benefits that will help you expand your network\, increase your visibility\, and ultimately drive more revenue for your business. \n\n\n\n\n\n  \nClick Here to RSVP\n\n\n 
URL:https://businessreferrers.com.au/event/business-referrers-weekly-networking-event-4/
LOCATION:Our HQ\, 268 Canterbury Road\, Surrey Hills\, Victoria\, 3127\, Australia
ATTACH;FMTTYPE=image/png:https://businessreferrers.com.au/wp-content/uploads/2023/04/logo.png
END:VEVENT
BEGIN:VEVENT
DTSTART;TZID=Australia/Melbourne:20240820T070000
DTEND;TZID=Australia/Melbourne:20240820T083000
DTSTAMP:20260425T111222
CREATED:20240806T050618Z
LAST-MODIFIED:20240806T050618Z
UID:4011-1724137200-1724142600@businessreferrers.com.au
SUMMARY:Keep the Lid on Rising Energy and Telecommunication Costs
DESCRIPTION:Each week there is a Business Referrers meeting which provides a friendly and productive meeting opportunity for local small business owners to share referrals and grow their businesses using the membership as a platform for new ideas\, products and services. We have a guest presenter each week who provides information from their areas of expertise. \n\n\n\n\n\nDom Scuteri from Essential Services Plus is presenting on “Keep the Lid on Rising Energy and Telecommunication Costs”\, explaining what you need to know and do to keep utilities costs under control\, both at home and at the business\, by implementing some simple steps. \nRSVP to this event if you want to find out how to keep your utility costs under control. \n\n\n\n\n\n\n \n\n  \n\n\nAbout the Presenter\n\nDom Scuteri – Essential Services Plus\nMarried to my wife Claudia for 46 years and we have 3 children Giulio\, Melissa\, and Katie\, one living in the UK\, one living in Adelaide and one living in Melbourne with 6 grandchildren. \nPrior to my current business I worked for Coles Supermarkets for 40 years across 6 states including the Northern Territory with my last 10 years at Head Office in Tooronga in a Senior Executive role. After the Westfarmers acquisition of Coles Supermarkets I left Coles and I joined ACN (Australian Communication Network) and started up my own family franchise’s business “Essential Services Plus” working from home.  \nIn the past 15 years I have helped hundreds of people to get a better value service and save money with our services and products.  Today we have over 700 + customer accounts and growing. We look after our clients\, by providing them with good service and regular reviews to ensure they are on competitive plans. \n  \n\n\n\n  \nClick Here to RSVP\n\n\n 
URL:https://businessreferrers.com.au/event/keep-the-lid-on-rising-energy-and-telecommunication-costs/
LOCATION:Our HQ\, 268 Canterbury Road\, Surrey Hills\, Victoria\, 3127\, Australia
ATTACH;FMTTYPE=image/jpeg:https://businessreferrers.com.au/wp-content/uploads/2022/06/Essential-Services-Plus-Logo.jpg
END:VEVENT
BEGIN:VEVENT
DTSTART;TZID=Australia/Melbourne:20240827T070000
DTEND;TZID=Australia/Melbourne:20240827T083000
DTSTAMP:20260425T111222
CREATED:20240806T052555Z
LAST-MODIFIED:20240806T052555Z
UID:4015-1724742000-1724747400@businessreferrers.com.au
SUMMARY:Business Referrers Weekly Networking Event
DESCRIPTION:Each week there is a Business Referrers meeting which provides a friendly and productive meeting opportunity for local small business owners to share referrals and grow their businesses using the membership as a platform for new ideas\, products and services. We have a guest presenter each week who provides information from their areas of expertise. \n\n\n\n\n\nRSVP to this event if you want to connect \n\n\n\n\n\n\n \n\n  \n\n\nAbout Business Referrers\n\nUnleashing the Power of Referral Business: Join Our Local Business Networking Group\n\n\nAs a business owner\, entrepreneur\, or start-up\, you understand the value of networking and building strong relationships with other like-minded individuals and local business networking groups. \nIn our local Business Network\, we believe that referred business is the best business. That’s why we’re committed to creating a community of trusted professionals passionate about supporting one another and growing their businesses together. \nOur membership offers a variety of benefits that will help you expand your network\, increase your visibility\, and ultimately drive more revenue for your business. \n\n\n\n\n\n  \nClick Here to RSVP\n\n\n 
URL:https://businessreferrers.com.au/event/business-referrers-weekly-networking-event-5/
LOCATION:Our HQ\, 268 Canterbury Road\, Surrey Hills\, Victoria\, 3127\, Australia
ATTACH;FMTTYPE=image/png:https://businessreferrers.com.au/wp-content/uploads/2023/04/logo.png
END:VEVENT
END:VCALENDAR