BEGIN:VCALENDAR
VERSION:2.0
PRODID:-//Business Referrers - ECPv6.15.20//NONSGML v1.0//EN
CALSCALE:GREGORIAN
METHOD:PUBLISH
X-ORIGINAL-URL:https://businessreferrers.com.au
X-WR-CALDESC:Events for Business Referrers
REFRESH-INTERVAL;VALUE=DURATION:PT1H
X-Robots-Tag:noindex
X-PUBLISHED-TTL:PT1H
BEGIN:VTIMEZONE
TZID:Australia/Melbourne
BEGIN:STANDARD
TZOFFSETFROM:+1100
TZOFFSETTO:+1000
TZNAME:AEST
DTSTART:20230401T160000
END:STANDARD
BEGIN:DAYLIGHT
TZOFFSETFROM:+1000
TZOFFSETTO:+1100
TZNAME:AEDT
DTSTART:20230930T160000
END:DAYLIGHT
BEGIN:STANDARD
TZOFFSETFROM:+1100
TZOFFSETTO:+1000
TZNAME:AEST
DTSTART:20240406T160000
END:STANDARD
BEGIN:DAYLIGHT
TZOFFSETFROM:+1000
TZOFFSETTO:+1100
TZNAME:AEDT
DTSTART:20241005T160000
END:DAYLIGHT
BEGIN:STANDARD
TZOFFSETFROM:+1100
TZOFFSETTO:+1000
TZNAME:AEST
DTSTART:20250405T160000
END:STANDARD
BEGIN:DAYLIGHT
TZOFFSETFROM:+1000
TZOFFSETTO:+1100
TZNAME:AEDT
DTSTART:20251004T160000
END:DAYLIGHT
END:VTIMEZONE
BEGIN:VEVENT
DTSTART;TZID=Australia/Melbourne:20241105T070000
DTEND;TZID=Australia/Melbourne:20241105T083000
DTSTAMP:20260425T063133
CREATED:20241001T102345Z
LAST-MODIFIED:20241001T102345Z
UID:4100-1730790000-1730795400@businessreferrers.com.au
SUMMARY:Business Referrers Weekly Networking Event
DESCRIPTION:Each week there is a Business Referrers meeting which provides a friendly and productive meeting opportunity for local small business owners to share referrals and grow their businesses using the membership as a platform for new ideas\, products and services. We have a guest presenter each week who provides information from their areas of expertise. \n\n\n\n\n\nRSVP to this event if you want to connect \n\n\n\n\n\n\n \n\n  \n\n\nAbout Business Referrers\n\nUnleashing the Power of Referral Business: Join Our Local Business Networking Group\n\n\nAs a business owner\, entrepreneur\, or start-up\, you understand the value of networking and building strong relationships with other like-minded individuals and local business networking groups. \nIn our local Business Network\, we believe that referred business is the best business. That’s why we’re committed to creating a community of trusted professionals passionate about supporting one another and growing their businesses together. \nOur membership offers a variety of benefits that will help you expand your network\, increase your visibility\, and ultimately drive more revenue for your business. \n\n\n\n\n\n  \nClick Here to RSVP\n\n\n 
URL:https://businessreferrers.com.au/event/business-referrers-weekly-networking-event-11/
LOCATION:Our HQ\, 268 Canterbury Road\, Surrey Hills\, Victoria\, 3127\, Australia
ATTACH;FMTTYPE=image/png:https://businessreferrers.com.au/wp-content/uploads/2023/04/logo.png
END:VEVENT
BEGIN:VEVENT
DTSTART;TZID=Australia/Melbourne:20241112T070000
DTEND;TZID=Australia/Melbourne:20241112T083000
DTSTAMP:20260425T063133
CREATED:20241109T044449Z
LAST-MODIFIED:20241109T044449Z
UID:4149-1731394800-1731400200@businessreferrers.com.au
SUMMARY:The Building Process from Design to Plaster
DESCRIPTION:Each week there is a Business Referrers meeting which provides a friendly and productive meeting opportunity for local small business owners to share referrals and grow their businesses using the membership as a platform for new ideas\, products and services. We have a guest presenter each week who provides information from their areas of expertise. \n\n\n\n\n\nRunning a business and pondering?? where is our cash\, why are we not growing\, are we profitable\, is our structure right to optimise our growth\, is our tax position optimised\, does our accountant know our business and our aspirations? \nChris Arnold from Planned Homes will talk about the Building Process\, from design through to plaster. \n\n\n\n\n\n\n \n\n\n\nAbout the Presenter\n\n\n\nChris Arnold – Planned Homes\nChris has a background in drafting\, architecture\, project management\, and construction. \nHis training and expertise give him the ability to see any project through from start to finish whether it’s a bathroom or a complete build. \nHis honest and upfront nature means his clients are armed with the knowledge they need before diving into what is often a life-changing experience. \nChris’ years of drafting and architectural experience\, combined with his construction knowledge\, mean the projects he oversees run smoothly\, to time\, and to a very high standard. \n\n\n\nClick Here to RSVP\n\n\n 
URL:https://businessreferrers.com.au/event/the-building-process-from-design-to-plaster/
LOCATION:Our HQ\, 268 Canterbury Road\, Surrey Hills\, Victoria\, 3127\, Australia
ATTACH;FMTTYPE=image/jpeg:https://businessreferrers.com.au/wp-content/uploads/2024/11/Chris-Arnold-Build-to-Plaster.jpg
END:VEVENT
BEGIN:VEVENT
DTSTART;TZID=Australia/Melbourne:20241119T070000
DTEND;TZID=Australia/Melbourne:20241119T083000
DTSTAMP:20260425T063133
CREATED:20241115T055109Z
LAST-MODIFIED:20241115T055408Z
UID:4156-1731999600-1732005000@businessreferrers.com.au
SUMMARY:What to Consider Before Working at Height
DESCRIPTION:Each week there is a Business Referrers meeting which provides a friendly and productive meeting opportunity for local small business owners to share referrals and grow their businesses using the membership as a platform for new ideas\, products and services. We have a guest presenter each week who provides information from their areas of expertise. \n\n\n\n\n\nIf you’re in the building industry chances\, are you are aware of the risks of working at height\, for those of you who do the odd job around home maybe you’re not quite as aware. This week Colleen from Masta Group Australia will be awakening us to the very real risk and what to consider before taking on a task at height.      \nColleen Sinclair from MastaGroup Australia will talk about working at heights.  \n\n\n\n\n\n\n \n\n\n\nAbout the Presenter\n\n\n\nColleen Sinclair – Masta Group Australia\nFamily-owned and operated\, Masta Scaffold Melbourne provides height Safety Solutions\, Education & Consultation services to Melbourne’s\, CBD\, Eastern and South-eastern suburbs.  \nOur friendly team is here to help you find the right height safety solution for your project to keep you safe and profitable.  \n\n\n\nClick Here to RSVP\n\n\n 
URL:https://businessreferrers.com.au/event/what-to-consider-before-working-at-height/
LOCATION:Our HQ\, 268 Canterbury Road\, Surrey Hills\, Victoria\, 3127\, Australia
ATTACH;FMTTYPE=image/jpeg:https://businessreferrers.com.au/wp-content/uploads/2024/11/MSM-Logo_Stacked_Main_Small-1-scaled.jpg
END:VEVENT
END:VCALENDAR