BEGIN:VCALENDAR
VERSION:2.0
PRODID:-//Business Referrers - ECPv6.15.20//NONSGML v1.0//EN
CALSCALE:GREGORIAN
METHOD:PUBLISH
X-ORIGINAL-URL:https://businessreferrers.com.au
X-WR-CALDESC:Events for Business Referrers
REFRESH-INTERVAL;VALUE=DURATION:PT1H
X-Robots-Tag:noindex
X-PUBLISHED-TTL:PT1H
BEGIN:VTIMEZONE
TZID:Australia/Melbourne
BEGIN:STANDARD
TZOFFSETFROM:+1100
TZOFFSETTO:+1000
TZNAME:AEST
DTSTART:20240406T160000
END:STANDARD
BEGIN:DAYLIGHT
TZOFFSETFROM:+1000
TZOFFSETTO:+1100
TZNAME:AEDT
DTSTART:20241005T160000
END:DAYLIGHT
BEGIN:STANDARD
TZOFFSETFROM:+1100
TZOFFSETTO:+1000
TZNAME:AEST
DTSTART:20250405T160000
END:STANDARD
BEGIN:DAYLIGHT
TZOFFSETFROM:+1000
TZOFFSETTO:+1100
TZNAME:AEDT
DTSTART:20251004T160000
END:DAYLIGHT
BEGIN:STANDARD
TZOFFSETFROM:+1100
TZOFFSETTO:+1000
TZNAME:AEST
DTSTART:20260404T160000
END:STANDARD
BEGIN:DAYLIGHT
TZOFFSETFROM:+1000
TZOFFSETTO:+1100
TZNAME:AEDT
DTSTART:20261003T160000
END:DAYLIGHT
END:VTIMEZONE
BEGIN:VEVENT
DTSTART;TZID=Australia/Melbourne:20251111T071500
DTEND;TZID=Australia/Melbourne:20251111T083000
DTSTAMP:20260424T235036
CREATED:20250505T092901Z
LAST-MODIFIED:20250807T121050Z
UID:4372-1762845300-1762849800@businessreferrers.com.au
SUMMARY:Business Referrers Weekly Networking Event
DESCRIPTION:Each week there is a Business Referrers meeting which provides a friendly and productive meeting opportunity for local small business owners to share referrals and grow their businesses using the membership as a platform for new ideas\, products and services. We have a guest presenter each week who provides information from their areas of expertise. \n\n\n\n\n\nRSVP to this event if you want to connect \n\n\n\n\n\n\n \n\n  \n\n\nAbout Business Referrers\n\nUnleashing the Power of Referral Business: Join Our Local Business Networking Group\n\n\nAs a business owner\, entrepreneur\, or start-up\, you understand the value of networking and building strong relationships with other like-minded individuals and local business networking groups. \nIn our local Business Network\, we believe that referred business is the best business. That’s why we’re committed to creating a community of trusted professionals passionate about supporting one another and growing their businesses together. \nOur membership offers a variety of benefits that will help you expand your network\, increase your visibility\, and ultimately drive more revenue for your business. \n\n\n\n\n\n  \nClick Here to RSVP\n\n\n 
URL:https://businessreferrers.com.au/event/business-referrers-weekly-networking-event-24/
LOCATION:Our HQ\, 268 Canterbury Road\, Surrey Hills\, Victoria\, 3127\, Australia
ATTACH;FMTTYPE=image/png:https://businessreferrers.com.au/wp-content/uploads/2023/04/logo.png
END:VEVENT
BEGIN:VEVENT
DTSTART;TZID=Australia/Melbourne:20251118T071500
DTEND;TZID=Australia/Melbourne:20251118T083000
DTSTAMP:20260424T235036
CREATED:20251103T095406Z
LAST-MODIFIED:20251103T095406Z
UID:4468-1763450100-1763454600@businessreferrers.com.au
SUMMARY:Business Referrers Weekly Networking Event
DESCRIPTION:Each week there is a Business Referrers meeting which provides a friendly and productive meeting opportunity for local small business owners to share referrals and grow their businesses using the membership as a platform for new ideas\, products and services. We have a guest presenter each week who provides information from their areas of expertise. \n\n\n\n\n\nRSVP to this event if you want to connect \n\n\n\n\n\n\n \n\n  \n\n\nAbout Business Referrers\n\nUnleashing the Power of Referral Business: Join Our Local Business Networking Group\n\n\nAs a business owner\, entrepreneur\, or start-up\, you understand the value of networking and building strong relationships with other like-minded individuals and local business networking groups. \nIn our local Business Network\, we believe that referred business is the best business. That’s why we’re committed to creating a community of trusted professionals passionate about supporting one another and growing their businesses together. \nOur membership offers a variety of benefits that will help you expand your network\, increase your visibility\, and ultimately drive more revenue for your business. \n\n\n\n\n\n  \nClick Here to RSVP\n\n\n 
URL:https://businessreferrers.com.au/event/business-referrers-weekly-networking-event-41/
LOCATION:Our HQ\, 268 Canterbury Road\, Surrey Hills\, Victoria\, 3127\, Australia
ATTACH;FMTTYPE=image/png:https://businessreferrers.com.au/wp-content/uploads/2023/04/logo.png
END:VEVENT
BEGIN:VEVENT
DTSTART;TZID=Australia/Melbourne:20251125T070000
DTEND;TZID=Australia/Melbourne:20251125T083000
DTSTAMP:20260424T235036
CREATED:20251118T024543Z
LAST-MODIFIED:20251118T024543Z
UID:4575-1764054000-1764059400@businessreferrers.com.au
SUMMARY:Taking the Chaos Out of Christmas: Systems\, Sanity & Staying Front of Mind
DESCRIPTION:Each week there is a Business Referrers meeting which provides a friendly and productive meeting opportunity for local small business owners to share referrals and grow their businesses using the membership as a platform for new ideas\, products and services. We have a guest presenter each week who provides information from their areas of expertise. \n\n\n\n\n\nIf you’re in the building industry chances\, are you are aware of the risks of working at height\, for those of you who do the odd job around home maybe you’re not quite as aware. This week Colleen from Masta Group Australia will be awakening us to the very real risk and what to consider before taking on a task at height.      \nColleen Sinclair from MastaGroup Australia will talk about working at heights.  \n\n\n\n\n\n\n \n\n\n\nAbout the Presenter\n\n\n\nColleen Sinclair – Masta Group Australia\nFamily-owned and operated\, Masta Scaffold Melbourne provides height Safety Solutions\, Education & Consultation services to Melbourne’s\, CBD\, Eastern and South-eastern suburbs.  \nColleen has over 35 years of experience as a business leader across Retail and Construction and loves building connections and supporting businesses and communities she is involved with to evolve.  \n\n\n\nClick Here to RSVP\n\n\n 
URL:https://businessreferrers.com.au/event/taking-the-chaos-out-of-christmas-systems-sanity-staying-front-of-mind/
LOCATION:Our HQ\, 268 Canterbury Road\, Surrey Hills\, Victoria\, 3127\, Australia
ATTACH;FMTTYPE=image/jpeg:https://businessreferrers.com.au/wp-content/uploads/2024/11/MSM-Logo_Stacked_Main_Small-1-scaled.jpg
END:VEVENT
END:VCALENDAR